BEGIN:VCALENDAR
VERSION:2.0
PRODID:-//Star Academy Charter - ECPv6.15.17.1//NONSGML v1.0//EN
CALSCALE:GREGORIAN
METHOD:PUBLISH
X-WR-CALNAME:Star Academy Charter
X-ORIGINAL-URL:https://www.staracademycharter.org
X-WR-CALDESC:Events for Star Academy Charter
REFRESH-INTERVAL;VALUE=DURATION:PT1H
X-Robots-Tag:noindex
X-PUBLISHED-TTL:PT1H
BEGIN:VTIMEZONE
TZID:America/Chicago
BEGIN:DAYLIGHT
TZOFFSETFROM:-0600
TZOFFSETTO:-0500
TZNAME:CDT
DTSTART:20250309T080000
END:DAYLIGHT
BEGIN:STANDARD
TZOFFSETFROM:-0500
TZOFFSETTO:-0600
TZNAME:CST
DTSTART:20251102T070000
END:STANDARD
BEGIN:DAYLIGHT
TZOFFSETFROM:-0600
TZOFFSETTO:-0500
TZNAME:CDT
DTSTART:20260308T080000
END:DAYLIGHT
BEGIN:STANDARD
TZOFFSETFROM:-0500
TZOFFSETTO:-0600
TZNAME:CST
DTSTART:20261101T070000
END:STANDARD
BEGIN:DAYLIGHT
TZOFFSETFROM:-0600
TZOFFSETTO:-0500
TZNAME:CDT
DTSTART:20270314T080000
END:DAYLIGHT
BEGIN:STANDARD
TZOFFSETFROM:-0500
TZOFFSETTO:-0600
TZNAME:CST
DTSTART:20271107T070000
END:STANDARD
END:VTIMEZONE
BEGIN:VEVENT
DTSTART;VALUE=DATE:20260521
DTEND;VALUE=DATE:20260522
DTSTAMP:20260420T045300
CREATED:20250617T161513Z
LAST-MODIFIED:20250617T161513Z
UID:369701-1779321600-1779407999@www.staracademycharter.org
SUMMARY:Last Day of School for Students
DESCRIPTION:
URL:https://www.staracademycharter.org/calendar-event/last-day-of-school-for-students-4
END:VEVENT
BEGIN:VEVENT
DTSTART;VALUE=DATE:20260521
DTEND;VALUE=DATE:20260522
DTSTAMP:20260420T045300
CREATED:20250617T161607Z
LAST-MODIFIED:20250617T161607Z
UID:369703-1779321600-1779407999@www.staracademycharter.org
SUMMARY:Quarter 4/Semester 2 Ends
DESCRIPTION:
URL:https://www.staracademycharter.org/calendar-event/quarter-4-semester-2-ends
END:VEVENT
BEGIN:VEVENT
DTSTART;VALUE=DATE:20260522
DTEND;VALUE=DATE:20260523
DTSTAMP:20260420T045300
CREATED:20250617T161700Z
LAST-MODIFIED:20250617T161700Z
UID:369705-1779408000-1779494399@www.staracademycharter.org
SUMMARY:Administrative Day
DESCRIPTION:
URL:https://www.staracademycharter.org/calendar-event/administrative-day-11
END:VEVENT
END:VCALENDAR