BEGIN:VCALENDAR
VERSION:2.0
PRODID:-//Star Academy Charter - ECPv6.15.17.1//NONSGML v1.0//EN
CALSCALE:GREGORIAN
METHOD:PUBLISH
X-WR-CALNAME:Star Academy Charter
X-ORIGINAL-URL:https://www.staracademycharter.org
X-WR-CALDESC:Events for Star Academy Charter
REFRESH-INTERVAL;VALUE=DURATION:PT1H
X-Robots-Tag:noindex
X-PUBLISHED-TTL:PT1H
BEGIN:VTIMEZONE
TZID:America/Chicago
BEGIN:DAYLIGHT
TZOFFSETFROM:-0600
TZOFFSETTO:-0500
TZNAME:CDT
DTSTART:20220313T080000
END:DAYLIGHT
BEGIN:STANDARD
TZOFFSETFROM:-0500
TZOFFSETTO:-0600
TZNAME:CST
DTSTART:20221106T070000
END:STANDARD
BEGIN:DAYLIGHT
TZOFFSETFROM:-0600
TZOFFSETTO:-0500
TZNAME:CDT
DTSTART:20230312T080000
END:DAYLIGHT
BEGIN:STANDARD
TZOFFSETFROM:-0500
TZOFFSETTO:-0600
TZNAME:CST
DTSTART:20231105T070000
END:STANDARD
BEGIN:DAYLIGHT
TZOFFSETFROM:-0600
TZOFFSETTO:-0500
TZNAME:CDT
DTSTART:20240310T080000
END:DAYLIGHT
BEGIN:STANDARD
TZOFFSETFROM:-0500
TZOFFSETTO:-0600
TZNAME:CST
DTSTART:20241103T070000
END:STANDARD
END:VTIMEZONE
BEGIN:VEVENT
DTSTART;VALUE=DATE:20231016
DTEND;VALUE=DATE:20231017
DTSTAMP:20260422T205648
CREATED:20230725T202610Z
LAST-MODIFIED:20230725T202610Z
UID:368965-1697414400-1697500799@www.staracademycharter.org
SUMMARY:2nd Quarter Begins
DESCRIPTION:
URL:https://www.staracademycharter.org/calendar-event/2nd-quarter-begins
END:VEVENT
BEGIN:VEVENT
DTSTART;VALUE=DATE:20231016
DTEND;VALUE=DATE:20231017
DTSTAMP:20260422T205648
CREATED:20230725T202555Z
LAST-MODIFIED:20230725T202555Z
UID:368963-1697414400-1697500799@www.staracademycharter.org
SUMMARY:Students Return
DESCRIPTION:
URL:https://www.staracademycharter.org/calendar-event/students-return-5
END:VEVENT
BEGIN:VEVENT
DTSTART;VALUE=DATE:20231009
DTEND;VALUE=DATE:20231014
DTSTAMP:20260422T205648
CREATED:20230725T202534Z
LAST-MODIFIED:20230725T202534Z
UID:368961-1696809600-1697241599@www.staracademycharter.org
SUMMARY:Fall Break - No School
DESCRIPTION:
URL:https://www.staracademycharter.org/calendar-event/fall-break-no-school
END:VEVENT
BEGIN:VEVENT
DTSTART;VALUE=DATE:20231008
DTEND;VALUE=DATE:20231009
DTSTAMP:20260422T205648
CREATED:20230725T202514Z
LAST-MODIFIED:20230725T202514Z
UID:368959-1696723200-1696809599@www.staracademycharter.org
SUMMARY:1st Quarter Ends
DESCRIPTION:
URL:https://www.staracademycharter.org/calendar-event/1st-quarter-ends-2
END:VEVENT
BEGIN:VEVENT
DTSTART;TZID=America/Chicago:20230927T070000
DTEND;TZID=America/Chicago:20230927T070000
DTSTAMP:20260422T205648
CREATED:20230726T134112Z
LAST-MODIFIED:20230726T134112Z
UID:369062-1695798000-1695798000@www.staracademycharter.org
SUMMARY:Board Meeting
DESCRIPTION:
URL:https://www.staracademycharter.org/calendar-event/board-meeting
LOCATION:Room 108
END:VEVENT
BEGIN:VEVENT
DTSTART;TZID=America/Chicago:20230907T160000
DTEND;TZID=America/Chicago:20230907T190000
DTSTAMP:20260422T205648
CREATED:20230725T202443Z
LAST-MODIFIED:20230725T202443Z
UID:368955-1694102400-1694113200@www.staracademycharter.org
SUMMARY:Parent/Teacher Conferences
DESCRIPTION:
URL:https://www.staracademycharter.org/calendar-event/parent-teacher-conferences
END:VEVENT
BEGIN:VEVENT
DTSTART;VALUE=DATE:20230907
DTEND;VALUE=DATE:20230908
DTSTAMP:20260422T205648
CREATED:20230725T202457Z
LAST-MODIFIED:20230725T202457Z
UID:368957-1694044800-1694131199@www.staracademycharter.org
SUMMARY:Q1 Progress Reports Distribution
DESCRIPTION:
URL:https://www.staracademycharter.org/calendar-event/q1-progress-reports-distribution
END:VEVENT
BEGIN:VEVENT
DTSTART;VALUE=DATE:20230904
DTEND;VALUE=DATE:20230905
DTSTAMP:20260422T205648
CREATED:20230725T202407Z
LAST-MODIFIED:20230725T202407Z
UID:368953-1693785600-1693871999@www.staracademycharter.org
SUMMARY:Labor Day - No School
DESCRIPTION:
URL:https://www.staracademycharter.org/calendar-event/labor-day-no-school
END:VEVENT
BEGIN:VEVENT
DTSTART;TZID=America/Chicago:20230824T170000
DTEND;TZID=America/Chicago:20230824T183000
DTSTAMP:20260422T205648
CREATED:20230725T202340Z
LAST-MODIFIED:20230725T202340Z
UID:368951-1692896400-1692901800@www.staracademycharter.org
SUMMARY:Annual Title I Parent Meeting
DESCRIPTION:
URL:https://www.staracademycharter.org/calendar-event/annual-title-i-parent-meeting
END:VEVENT
BEGIN:VEVENT
DTSTART;TZID=America/Chicago:20230824T083000
DTEND;TZID=America/Chicago:20230824T093000
DTSTAMP:20260422T205648
CREATED:20230725T202310Z
LAST-MODIFIED:20230725T202310Z
UID:368949-1692865800-1692869400@www.staracademycharter.org
SUMMARY:Open House
DESCRIPTION:
URL:https://www.staracademycharter.org/calendar-event/open-house
END:VEVENT
BEGIN:VEVENT
DTSTART;VALUE=DATE:20230807
DTEND;VALUE=DATE:20230808
DTSTAMP:20260422T205648
CREATED:20230725T202230Z
LAST-MODIFIED:20230725T202230Z
UID:368947-1691366400-1691452799@www.staracademycharter.org
SUMMARY:1st Quarter Begins
DESCRIPTION:
URL:https://www.staracademycharter.org/calendar-event/1st-quarter-begins-2
END:VEVENT
BEGIN:VEVENT
DTSTART;VALUE=DATE:20230807
DTEND;VALUE=DATE:20230808
DTSTAMP:20260422T205648
CREATED:20230725T202217Z
LAST-MODIFIED:20230725T202217Z
UID:368944-1691366400-1691452799@www.staracademycharter.org
SUMMARY:First Day of School for Students
DESCRIPTION:
URL:https://www.staracademycharter.org/calendar-event/first-day-of-school-for-students-2
END:VEVENT
BEGIN:VEVENT
DTSTART;VALUE=DATE:20230807
DTEND;VALUE=DATE:20230808
DTSTAMP:20260422T205648
CREATED:20230725T202158Z
LAST-MODIFIED:20230725T202158Z
UID:368942-1691366400-1691452799@www.staracademycharter.org
SUMMARY:1st Semester Begins
DESCRIPTION:
URL:https://www.staracademycharter.org/calendar-event/1st-semester-begins-2
END:VEVENT
BEGIN:VEVENT
DTSTART;VALUE=DATE:20230804
DTEND;VALUE=DATE:20230805
DTSTAMP:20260422T205648
CREATED:20230725T202126Z
LAST-MODIFIED:20230725T202126Z
UID:368940-1691107200-1691193599@www.staracademycharter.org
SUMMARY:Administrative Day
DESCRIPTION:
URL:https://www.staracademycharter.org/calendar-event/administrative-day-6
END:VEVENT
BEGIN:VEVENT
DTSTART;VALUE=DATE:20230801
DTEND;VALUE=DATE:20230802
DTSTAMP:20260422T205648
CREATED:20230725T202106Z
LAST-MODIFIED:20230725T202106Z
UID:368938-1690848000-1690934399@www.staracademycharter.org
SUMMARY:Administrative Day
DESCRIPTION:
URL:https://www.staracademycharter.org/calendar-event/administrative-day-5
END:VEVENT
BEGIN:VEVENT
DTSTART;VALUE=DATE:20230731
DTEND;VALUE=DATE:20230805
DTSTAMP:20260422T205648
CREATED:20230725T202050Z
LAST-MODIFIED:20230725T202050Z
UID:368936-1690761600-1691193599@www.staracademycharter.org
SUMMARY:Professional Development Days
DESCRIPTION:
URL:https://www.staracademycharter.org/calendar-event/professional-development-days-2
END:VEVENT
BEGIN:VEVENT
DTSTART;VALUE=DATE:20230728
DTEND;VALUE=DATE:20230729
DTSTAMP:20260422T205648
CREATED:20230725T202033Z
LAST-MODIFIED:20230725T202033Z
UID:368934-1690502400-1690588799@www.staracademycharter.org
SUMMARY:Registration
DESCRIPTION:
URL:https://www.staracademycharter.org/calendar-event/registration
END:VEVENT
BEGIN:VEVENT
DTSTART;VALUE=DATE:20230728
DTEND;VALUE=DATE:20230729
DTSTAMP:20260422T205648
CREATED:20230725T202014Z
LAST-MODIFIED:20230725T202014Z
UID:368932-1690502400-1690588799@www.staracademycharter.org
SUMMARY:Administrative Day
DESCRIPTION:
URL:https://www.staracademycharter.org/calendar-event/administrative-day-4
END:VEVENT
BEGIN:VEVENT
DTSTART;VALUE=DATE:20230726
DTEND;VALUE=DATE:20230729
DTSTAMP:20260422T205648
CREATED:20230725T202001Z
LAST-MODIFIED:20230725T202001Z
UID:368929-1690329600-1690588799@www.staracademycharter.org
SUMMARY:Professional Development Day
DESCRIPTION:
URL:https://www.staracademycharter.org/calendar-event/professional-development-day-4
END:VEVENT
BEGIN:VEVENT
DTSTART;VALUE=DATE:20230725
DTEND;VALUE=DATE:20230727
DTSTAMP:20260422T205648
CREATED:20230725T201942Z
LAST-MODIFIED:20230725T201942Z
UID:368927-1690243200-1690415999@www.staracademycharter.org
SUMMARY:New Teacher/Staff Orientation
DESCRIPTION:
URL:https://www.staracademycharter.org/calendar-event/new-teacher-staff-orientation-2
END:VEVENT
BEGIN:VEVENT
DTSTART;VALUE=DATE:20230724
DTEND;VALUE=DATE:20230725
DTSTAMP:20260422T205648
CREATED:20230725T201926Z
LAST-MODIFIED:20230725T201926Z
UID:368925-1690156800-1690243199@www.staracademycharter.org
SUMMARY:School Leadership Team Returns
DESCRIPTION:
URL:https://www.staracademycharter.org/calendar-event/school-leadership-team-returns-2
END:VEVENT
BEGIN:VEVENT
DTSTART;VALUE=DATE:20230710
DTEND;VALUE=DATE:20230711
DTSTAMP:20260422T205648
CREATED:20230725T201911Z
LAST-MODIFIED:20230725T201911Z
UID:368922-1688947200-1689033599@www.staracademycharter.org
SUMMARY:Office Staff Returns
DESCRIPTION:
URL:https://www.staracademycharter.org/calendar-event/office-staff-returns-2
END:VEVENT
BEGIN:VEVENT
DTSTART;VALUE=DATE:20230601
DTEND;VALUE=DATE:20230602
DTSTAMP:20260422T205648
CREATED:20230512T163940Z
LAST-MODIFIED:20230512T163940Z
UID:368380-1685577600-1685663999@www.staracademycharter.org
SUMMARY:Report Card Mailing
DESCRIPTION:
URL:https://www.staracademycharter.org/calendar-event/report-card-mailing
END:VEVENT
BEGIN:VEVENT
DTSTART;VALUE=DATE:20230601
DTEND;VALUE=DATE:20230602
DTSTAMP:20260422T205648
CREATED:20230512T163929Z
LAST-MODIFIED:20230512T163929Z
UID:368378-1685577600-1685663999@www.staracademycharter.org
SUMMARY:Teacher Last Day
DESCRIPTION:
URL:https://www.staracademycharter.org/calendar-event/teacher-last-day
END:VEVENT
BEGIN:VEVENT
DTSTART;VALUE=DATE:20230601
DTEND;VALUE=DATE:20230602
DTSTAMP:20260422T205648
CREATED:20230512T163918Z
LAST-MODIFIED:20230512T163918Z
UID:368376-1685577600-1685663999@www.staracademycharter.org
SUMMARY:Professional Development Day
DESCRIPTION:
URL:https://www.staracademycharter.org/calendar-event/professional-development-day-3
END:VEVENT
BEGIN:VEVENT
DTSTART;TZID=America/Chicago:20230531T083000
DTEND;TZID=America/Chicago:20230531T160000
DTSTAMP:20260422T205648
CREATED:20230512T163904Z
LAST-MODIFIED:20230512T163904Z
UID:368374-1685521800-1685548800@www.staracademycharter.org
SUMMARY:Administrative Day
DESCRIPTION:
URL:https://www.staracademycharter.org/calendar-event/administrative-day-3
END:VEVENT
BEGIN:VEVENT
DTSTART;TZID=America/Chicago:20230531T083000
DTEND;TZID=America/Chicago:20230531T160000
DTSTAMP:20260422T205648
CREATED:20230512T163848Z
LAST-MODIFIED:20230512T163848Z
UID:368372-1685521800-1685548800@www.staracademycharter.org
SUMMARY:Professional Development Day
DESCRIPTION:
URL:https://www.staracademycharter.org/calendar-event/professional-development-day-2
END:VEVENT
BEGIN:VEVENT
DTSTART;VALUE=DATE:20230530
DTEND;VALUE=DATE:20230531
DTSTAMP:20260422T205648
CREATED:20230512T163829Z
LAST-MODIFIED:20230512T163829Z
UID:368370-1685404800-1685491199@www.staracademycharter.org
SUMMARY:Teacher Administrative Day
DESCRIPTION:
URL:https://www.staracademycharter.org/calendar-event/teacher-administrative-day
END:VEVENT
BEGIN:VEVENT
DTSTART;VALUE=DATE:20230529
DTEND;VALUE=DATE:20230530
DTSTAMP:20260422T205648
CREATED:20230512T163816Z
LAST-MODIFIED:20230512T163816Z
UID:368368-1685318400-1685404799@www.staracademycharter.org
SUMMARY:Memorial Day
DESCRIPTION:
URL:https://www.staracademycharter.org/calendar-event/memorial-day
END:VEVENT
BEGIN:VEVENT
DTSTART;VALUE=DATE:20230526
DTEND;VALUE=DATE:20230527
DTSTAMP:20260422T205648
CREATED:20230512T163806Z
LAST-MODIFIED:20230512T163806Z
UID:368366-1685059200-1685145599@www.staracademycharter.org
SUMMARY:4th Quarter Ends
DESCRIPTION:
URL:https://www.staracademycharter.org/calendar-event/4th-quarter-ends
END:VEVENT
END:VCALENDAR