BEGIN:VCALENDAR
VERSION:2.0
PRODID:-//Star Academy Charter - ECPv6.15.17.1//NONSGML v1.0//EN
CALSCALE:GREGORIAN
METHOD:PUBLISH
X-ORIGINAL-URL:https://www.staracademycharter.org
X-WR-CALDESC:Events for Star Academy Charter
REFRESH-INTERVAL;VALUE=DURATION:PT1H
X-Robots-Tag:noindex
X-PUBLISHED-TTL:PT1H
BEGIN:VTIMEZONE
TZID:America/Chicago
BEGIN:DAYLIGHT
TZOFFSETFROM:-0600
TZOFFSETTO:-0500
TZNAME:CDT
DTSTART:20220313T080000
END:DAYLIGHT
BEGIN:STANDARD
TZOFFSETFROM:-0500
TZOFFSETTO:-0600
TZNAME:CST
DTSTART:20221106T070000
END:STANDARD
BEGIN:DAYLIGHT
TZOFFSETFROM:-0600
TZOFFSETTO:-0500
TZNAME:CDT
DTSTART:20230312T080000
END:DAYLIGHT
BEGIN:STANDARD
TZOFFSETFROM:-0500
TZOFFSETTO:-0600
TZNAME:CST
DTSTART:20231105T070000
END:STANDARD
BEGIN:DAYLIGHT
TZOFFSETFROM:-0600
TZOFFSETTO:-0500
TZNAME:CDT
DTSTART:20240310T080000
END:DAYLIGHT
BEGIN:STANDARD
TZOFFSETFROM:-0500
TZOFFSETTO:-0600
TZNAME:CST
DTSTART:20241103T070000
END:STANDARD
END:VTIMEZONE
BEGIN:VEVENT
DTSTART;VALUE=DATE:20230512
DTEND;VALUE=DATE:20230513
DTSTAMP:20260423T033317
CREATED:20230512T163625Z
LAST-MODIFIED:20230512T163625Z
UID:368354-1683849600-1683935999@www.staracademycharter.org
SUMMARY:Career Day
DESCRIPTION:
URL:https://www.staracademycharter.org/calendar-event/career-day
END:VEVENT
BEGIN:VEVENT
DTSTART;TZID=America/Chicago:20230502T180000
DTEND;TZID=America/Chicago:20230502T180000
DTSTAMP:20260423T033317
CREATED:20230512T160938Z
LAST-MODIFIED:20230512T160938Z
UID:368240-1683050400-1683050400@www.staracademycharter.org
SUMMARY:PTO Meeting
DESCRIPTION:
URL:https://www.staracademycharter.org/calendar-event/pto-meeting
END:VEVENT
BEGIN:VEVENT
DTSTART;VALUE=DATE:20230501
DTEND;VALUE=DATE:20230506
DTSTAMP:20260423T033317
CREATED:20230512T163601Z
LAST-MODIFIED:20230512T163601Z
UID:368350-1682899200-1683331199@www.staracademycharter.org
SUMMARY:TN Ready Window (Projected)
DESCRIPTION:
URL:https://www.staracademycharter.org/calendar-event/tn-ready-window-projected-3
END:VEVENT
BEGIN:VEVENT
DTSTART;TZID=America/Chicago:20230425T180000
DTEND;TZID=America/Chicago:20230425T180000
DTSTAMP:20260423T033317
CREATED:20230512T164649Z
LAST-MODIFIED:20230512T164649Z
UID:368414-1682445600-1682445600@www.staracademycharter.org
SUMMARY:PTO Meeting
DESCRIPTION:
URL:https://www.staracademycharter.org/calendar-event/pto-meeting-18
END:VEVENT
BEGIN:VEVENT
DTSTART;VALUE=DATE:20230424
DTEND;VALUE=DATE:20230429
DTSTAMP:20260423T033317
CREATED:20230512T163543Z
LAST-MODIFIED:20230512T163543Z
UID:368348-1682294400-1682726399@www.staracademycharter.org
SUMMARY:TN Ready Window (Projected)
DESCRIPTION:
URL:https://www.staracademycharter.org/calendar-event/tn-ready-window-projected-2
END:VEVENT
BEGIN:VEVENT
DTSTART;VALUE=DATE:20230420
DTEND;VALUE=DATE:20230421
DTSTAMP:20260423T033317
CREATED:20230512T163614Z
LAST-MODIFIED:20230512T163614Z
UID:368352-1681948800-1682035199@www.staracademycharter.org
SUMMARY:Q4 Progress Reports Distribution
DESCRIPTION:
URL:https://www.staracademycharter.org/calendar-event/q4-progress-reports-distribution
END:VEVENT
BEGIN:VEVENT
DTSTART;VALUE=DATE:20230417
DTEND;VALUE=DATE:20230422
DTSTAMP:20260423T033317
CREATED:20230512T163509Z
LAST-MODIFIED:20230512T163509Z
UID:368346-1681689600-1682121599@www.staracademycharter.org
SUMMARY:TN Ready Window (Projected)
DESCRIPTION:
URL:https://www.staracademycharter.org/calendar-event/tn-ready-window-projected
END:VEVENT
BEGIN:VEVENT
DTSTART;VALUE=DATE:20230407
DTEND;VALUE=DATE:20230408
DTSTAMP:20260423T033317
CREATED:20230512T163440Z
LAST-MODIFIED:20230512T163440Z
UID:368344-1680825600-1680911999@www.staracademycharter.org
SUMMARY:Spreak Break II/Good Friday
DESCRIPTION:
URL:https://www.staracademycharter.org/calendar-event/spreak-break-ii-good-friday
END:VEVENT
BEGIN:VEVENT
DTSTART;TZID=America/Chicago:20230404T180000
DTEND;TZID=America/Chicago:20230404T180000
DTSTAMP:20260423T033317
CREATED:20230512T164637Z
LAST-MODIFIED:20230512T164637Z
UID:368412-1680631200-1680631200@www.staracademycharter.org
SUMMARY:PTO Meeting
DESCRIPTION:
URL:https://www.staracademycharter.org/calendar-event/pto-meeting-17
END:VEVENT
BEGIN:VEVENT
DTSTART;TZID=America/Chicago:20230328T180000
DTEND;TZID=America/Chicago:20230328T180000
DTSTAMP:20260423T033317
CREATED:20230512T164623Z
LAST-MODIFIED:20230512T164623Z
UID:368410-1680026400-1680026400@www.staracademycharter.org
SUMMARY:PTO Meeting
DESCRIPTION:
URL:https://www.staracademycharter.org/calendar-event/pto-meeting-16
END:VEVENT
BEGIN:VEVENT
DTSTART;TZID=America/Chicago:20230323T170000
DTEND;TZID=America/Chicago:20230323T183000
DTSTAMP:20260423T033317
CREATED:20230512T163427Z
LAST-MODIFIED:20230512T163427Z
UID:368342-1679590800-1679596200@www.staracademycharter.org
SUMMARY:Math and Science Night and Q3 Report-Card Distribution
DESCRIPTION:
URL:https://www.staracademycharter.org/calendar-event/math-and-science-night-and-q3-report-card-distribution
END:VEVENT
BEGIN:VEVENT
DTSTART;VALUE=DATE:20230320
DTEND;VALUE=DATE:20230321
DTSTAMP:20260423T033317
CREATED:20230512T163359Z
LAST-MODIFIED:20230512T163359Z
UID:368340-1679270400-1679356799@www.staracademycharter.org
SUMMARY:4th Quarter Begins
DESCRIPTION:
URL:https://www.staracademycharter.org/calendar-event/4th-quarter-begins
END:VEVENT
BEGIN:VEVENT
DTSTART;VALUE=DATE:20230320
DTEND;VALUE=DATE:20230321
DTSTAMP:20260423T033317
CREATED:20230512T163347Z
LAST-MODIFIED:20230512T163347Z
UID:368338-1679270400-1679356799@www.staracademycharter.org
SUMMARY:Students Return
DESCRIPTION:
URL:https://www.staracademycharter.org/calendar-event/students-return-4
END:VEVENT
BEGIN:VEVENT
DTSTART;VALUE=DATE:20230313
DTEND;VALUE=DATE:20230318
DTSTAMP:20260423T033317
CREATED:20230512T163334Z
LAST-MODIFIED:20230512T163334Z
UID:368336-1678665600-1679097599@www.staracademycharter.org
SUMMARY:Spring Break
DESCRIPTION:
URL:https://www.staracademycharter.org/calendar-event/spring-break
END:VEVENT
BEGIN:VEVENT
DTSTART;VALUE=DATE:20230310
DTEND;VALUE=DATE:20230311
DTSTAMP:20260423T033317
CREATED:20230512T163319Z
LAST-MODIFIED:20230512T163319Z
UID:368334-1678406400-1678492799@www.staracademycharter.org
SUMMARY:3rd Quarter Ends
DESCRIPTION:
URL:https://www.staracademycharter.org/calendar-event/3rd-quarter-ends
END:VEVENT
BEGIN:VEVENT
DTSTART;TZID=America/Chicago:20230307T180000
DTEND;TZID=America/Chicago:20230307T180000
DTSTAMP:20260423T033317
CREATED:20230512T164608Z
LAST-MODIFIED:20230512T164608Z
UID:368408-1678212000-1678212000@www.staracademycharter.org
SUMMARY:PTO Meeting
DESCRIPTION:
URL:https://www.staracademycharter.org/calendar-event/pto-meeting-15
END:VEVENT
BEGIN:VEVENT
DTSTART;VALUE=DATE:20230306
DTEND;VALUE=DATE:20230311
DTSTAMP:20260423T033317
CREATED:20230512T163306Z
LAST-MODIFIED:20230512T163306Z
UID:368332-1678060800-1678492799@www.staracademycharter.org
SUMMARY:Book Fair
DESCRIPTION:
URL:https://www.staracademycharter.org/calendar-event/book-fair
END:VEVENT
BEGIN:VEVENT
DTSTART;VALUE=DATE:20230301
DTEND;VALUE=DATE:20230305
DTSTAMP:20260423T033317
CREATED:20230512T163251Z
LAST-MODIFIED:20230512T163251Z
UID:368330-1677628800-1677974399@www.staracademycharter.org
SUMMARY:5th Grade College Tours Trip (Tentative)
DESCRIPTION:
URL:https://www.staracademycharter.org/calendar-event/5th-grade-college-tours-trip-tentative
END:VEVENT
BEGIN:VEVENT
DTSTART;TZID=America/Chicago:20230228T180000
DTEND;TZID=America/Chicago:20230228T180000
DTSTAMP:20260423T033317
CREATED:20230512T164550Z
LAST-MODIFIED:20230512T164550Z
UID:368406-1677607200-1677607200@www.staracademycharter.org
SUMMARY:PTO Meeting
DESCRIPTION:
URL:https://www.staracademycharter.org/calendar-event/pto-meeting-14
END:VEVENT
BEGIN:VEVENT
DTSTART;TZID=America/Chicago:20230223T133000
DTEND;TZID=America/Chicago:20230223T143000
DTSTAMP:20260423T033317
CREATED:20230512T163226Z
LAST-MODIFIED:20230512T163226Z
UID:368328-1677159000-1677162600@www.staracademycharter.org
SUMMARY:Black History Program
DESCRIPTION:
URL:https://www.staracademycharter.org/calendar-event/black-history-program
END:VEVENT
BEGIN:VEVENT
DTSTART;TZID=America/Chicago:20230207T180000
DTEND;TZID=America/Chicago:20230207T180000
DTSTAMP:20260423T033317
CREATED:20230512T164533Z
LAST-MODIFIED:20230512T164533Z
UID:368404-1675792800-1675792800@www.staracademycharter.org
SUMMARY:PTO Meeting
DESCRIPTION:
URL:https://www.staracademycharter.org/calendar-event/pto-meeting-13
END:VEVENT
BEGIN:VEVENT
DTSTART;TZID=America/Chicago:20230202T160000
DTEND;TZID=America/Chicago:20230202T190000
DTSTAMP:20260423T033317
CREATED:20230512T163201Z
LAST-MODIFIED:20230512T163201Z
UID:368326-1675353600-1675364400@www.staracademycharter.org
SUMMARY:SLT Scholars of Concern Family Meetings
DESCRIPTION:
URL:https://www.staracademycharter.org/calendar-event/slt-scholars-of-concern-family-meetings
END:VEVENT
BEGIN:VEVENT
DTSTART;VALUE=DATE:20230202
DTEND;VALUE=DATE:20230203
DTSTAMP:20260423T033317
CREATED:20230512T163140Z
LAST-MODIFIED:20230512T163140Z
UID:368324-1675296000-1675382399@www.staracademycharter.org
SUMMARY:Parent-Teacher Conferences and Q3 Progress Reports Distribution
DESCRIPTION:
URL:https://www.staracademycharter.org/calendar-event/parent-teacher-conferences-and-q3-progress-reports-distribution
END:VEVENT
BEGIN:VEVENT
DTSTART;TZID=America/Chicago:20230124T180000
DTEND;TZID=America/Chicago:20230124T180000
DTSTAMP:20260423T033317
CREATED:20230512T164442Z
LAST-MODIFIED:20230512T164442Z
UID:368402-1674583200-1674583200@www.staracademycharter.org
SUMMARY:PTO Meeting
DESCRIPTION:
URL:https://www.staracademycharter.org/calendar-event/pto-meeting-12
END:VEVENT
BEGIN:VEVENT
DTSTART;VALUE=DATE:20230116
DTEND;VALUE=DATE:20230117
DTSTAMP:20260423T033317
CREATED:20230512T163112Z
LAST-MODIFIED:20230512T163112Z
UID:368322-1673827200-1673913599@www.staracademycharter.org
SUMMARY:Dr. Martin Luther King Jr. Holiday
DESCRIPTION:
URL:https://www.staracademycharter.org/calendar-event/dr-martin-luther-king-jr-holiday
END:VEVENT
BEGIN:VEVENT
DTSTART;VALUE=DATE:20230105
DTEND;VALUE=DATE:20230106
DTSTAMP:20260423T033317
CREATED:20230512T163059Z
LAST-MODIFIED:20230512T163059Z
UID:368320-1672876800-1672963199@www.staracademycharter.org
SUMMARY:Q2 Report Card Distribution
DESCRIPTION:
URL:https://www.staracademycharter.org/calendar-event/q2-report-card-distribution
END:VEVENT
BEGIN:VEVENT
DTSTART;TZID=America/Chicago:20230103T180000
DTEND;TZID=America/Chicago:20230103T180000
DTSTAMP:20260423T033317
CREATED:20230512T164424Z
LAST-MODIFIED:20230512T164424Z
UID:368400-1672768800-1672768800@www.staracademycharter.org
SUMMARY:PTO Meeting
DESCRIPTION:
URL:https://www.staracademycharter.org/calendar-event/pto-meeting-11
END:VEVENT
BEGIN:VEVENT
DTSTART;VALUE=DATE:20230102
DTEND;VALUE=DATE:20230103
DTSTAMP:20260423T033317
CREATED:20230512T163042Z
LAST-MODIFIED:20230512T163042Z
UID:368318-1672617600-1672703999@www.staracademycharter.org
SUMMARY:3rd Quarter Begins
DESCRIPTION:
URL:https://www.staracademycharter.org/calendar-event/3rd-quarter-begins
END:VEVENT
BEGIN:VEVENT
DTSTART;VALUE=DATE:20230102
DTEND;VALUE=DATE:20230103
DTSTAMP:20260423T033317
CREATED:20230512T163028Z
LAST-MODIFIED:20230512T163028Z
UID:368316-1672617600-1672703999@www.staracademycharter.org
SUMMARY:Students Return
DESCRIPTION:
URL:https://www.staracademycharter.org/calendar-event/students-return-3
END:VEVENT
BEGIN:VEVENT
DTSTART;VALUE=DATE:20230102
DTEND;VALUE=DATE:20230103
DTSTAMP:20260423T033317
CREATED:20230512T163013Z
LAST-MODIFIED:20230512T163013Z
UID:368314-1672617600-1672703999@www.staracademycharter.org
SUMMARY:2nd Semester Begins
DESCRIPTION:
URL:https://www.staracademycharter.org/calendar-event/2nd-semester-begins
END:VEVENT
END:VCALENDAR