BEGIN:VCALENDAR
VERSION:2.0
PRODID:-//Star Academy Charter - ECPv6.15.17.1//NONSGML v1.0//EN
CALSCALE:GREGORIAN
METHOD:PUBLISH
X-ORIGINAL-URL:https://www.staracademycharter.org
X-WR-CALDESC:Events for Star Academy Charter
REFRESH-INTERVAL;VALUE=DURATION:PT1H
X-Robots-Tag:noindex
X-PUBLISHED-TTL:PT1H
BEGIN:VTIMEZONE
TZID:America/Chicago
BEGIN:DAYLIGHT
TZOFFSETFROM:-0600
TZOFFSETTO:-0500
TZNAME:CDT
DTSTART:20210314T080000
END:DAYLIGHT
BEGIN:STANDARD
TZOFFSETFROM:-0500
TZOFFSETTO:-0600
TZNAME:CST
DTSTART:20211107T070000
END:STANDARD
BEGIN:DAYLIGHT
TZOFFSETFROM:-0600
TZOFFSETTO:-0500
TZNAME:CDT
DTSTART:20220313T080000
END:DAYLIGHT
BEGIN:STANDARD
TZOFFSETFROM:-0500
TZOFFSETTO:-0600
TZNAME:CST
DTSTART:20221106T070000
END:STANDARD
BEGIN:DAYLIGHT
TZOFFSETFROM:-0600
TZOFFSETTO:-0500
TZNAME:CDT
DTSTART:20230312T080000
END:DAYLIGHT
BEGIN:STANDARD
TZOFFSETFROM:-0500
TZOFFSETTO:-0600
TZNAME:CST
DTSTART:20231105T070000
END:STANDARD
END:VTIMEZONE
BEGIN:VEVENT
DTSTART;TZID=America/Chicago:20221122T180000
DTEND;TZID=America/Chicago:20221122T180000
DTSTAMP:20260423T070834
CREATED:20230512T164340Z
LAST-MODIFIED:20230512T164340Z
UID:368396-1669140000-1669140000@www.staracademycharter.org
SUMMARY:PTO Meeting
DESCRIPTION:
URL:https://www.staracademycharter.org/calendar-event/pto-meeting-9
END:VEVENT
BEGIN:VEVENT
DTSTART;VALUE=DATE:20221121
DTEND;VALUE=DATE:20221126
DTSTAMP:20260423T070834
CREATED:20230512T162836Z
LAST-MODIFIED:20230512T162836Z
UID:368302-1668988800-1669420799@www.staracademycharter.org
SUMMARY:Thanksgiving Break
DESCRIPTION:
URL:https://www.staracademycharter.org/calendar-event/thanksgiving-break
END:VEVENT
BEGIN:VEVENT
DTSTART;TZID=America/Chicago:20221117T160000
DTEND;TZID=America/Chicago:20221117T190000
DTSTAMP:20260423T070834
CREATED:20230512T162817Z
LAST-MODIFIED:20230512T162817Z
UID:368300-1668700800-1668711600@www.staracademycharter.org
SUMMARY:Parent-Teacher Collaboratives (Students of Concern)
DESCRIPTION:
URL:https://www.staracademycharter.org/calendar-event/parent-teacher-collaboratives-students-of-concern
END:VEVENT
BEGIN:VEVENT
DTSTART;VALUE=DATE:20221117
DTEND;VALUE=DATE:20221118
DTSTAMP:20260423T070834
CREATED:20230512T162754Z
LAST-MODIFIED:20230512T162754Z
UID:368298-1668643200-1668729599@www.staracademycharter.org
SUMMARY:Q2 Progress Reports Distribution
DESCRIPTION:
URL:https://www.staracademycharter.org/calendar-event/q2-progress-reports-distribution
END:VEVENT
BEGIN:VEVENT
DTSTART;VALUE=DATE:20221111
DTEND;VALUE=DATE:20221112
DTSTAMP:20260423T070834
CREATED:20230512T162734Z
LAST-MODIFIED:20230512T162734Z
UID:368296-1668124800-1668211199@www.staracademycharter.org
SUMMARY:Veterans Day
DESCRIPTION:
URL:https://www.staracademycharter.org/calendar-event/veterans-day
END:VEVENT
BEGIN:VEVENT
DTSTART;VALUE=DATE:20221108
DTEND;VALUE=DATE:20221109
DTSTAMP:20260423T070834
CREATED:20230512T162716Z
LAST-MODIFIED:20230512T162716Z
UID:368294-1667865600-1667951999@www.staracademycharter.org
SUMMARY:Professional Development
DESCRIPTION:
URL:https://www.staracademycharter.org/calendar-event/professional-development
END:VEVENT
BEGIN:VEVENT
DTSTART;TZID=America/Chicago:20221101T180000
DTEND;TZID=America/Chicago:20221101T180000
DTSTAMP:20260423T070834
CREATED:20230512T164325Z
LAST-MODIFIED:20230512T164325Z
UID:368394-1667325600-1667325600@www.staracademycharter.org
SUMMARY:PTO Meeting
DESCRIPTION:
URL:https://www.staracademycharter.org/calendar-event/pto-meeting-8
END:VEVENT
BEGIN:VEVENT
DTSTART;TZID=America/Chicago:20221025T180000
DTEND;TZID=America/Chicago:20221025T180000
DTSTAMP:20260423T070834
CREATED:20230512T164304Z
LAST-MODIFIED:20230512T164304Z
UID:368392-1666720800-1666720800@www.staracademycharter.org
SUMMARY:PTO Meeting
DESCRIPTION:
URL:https://www.staracademycharter.org/calendar-event/pto-meeting-7
END:VEVENT
BEGIN:VEVENT
DTSTART;TZID=America/Chicago:20221020T170000
DTEND;TZID=America/Chicago:20221020T183000
DTSTAMP:20260423T070834
CREATED:20230512T162702Z
LAST-MODIFIED:20230512T162702Z
UID:368292-1666285200-1666290600@www.staracademycharter.org
SUMMARY:Literacy Night and Q1 Report-Card Distribution
DESCRIPTION:
URL:https://www.staracademycharter.org/calendar-event/literacy-night-and-q1-report-card-distribution
END:VEVENT
BEGIN:VEVENT
DTSTART;VALUE=DATE:20221017
DTEND;VALUE=DATE:20221018
DTSTAMP:20260423T070834
CREATED:20230512T162635Z
LAST-MODIFIED:20230512T162635Z
UID:368290-1665964800-1666051199@www.staracademycharter.org
SUMMARY:Students Return
DESCRIPTION:
URL:https://www.staracademycharter.org/calendar-event/students-return-2
END:VEVENT
BEGIN:VEVENT
DTSTART;VALUE=DATE:20221017
DTEND;VALUE=DATE:20221018
DTSTAMP:20260423T070834
CREATED:20230512T162602Z
LAST-MODIFIED:20230512T162612Z
UID:368287-1665964800-1666051199@www.staracademycharter.org
SUMMARY:2nd Quarter Begins
DESCRIPTION:
URL:https://www.staracademycharter.org/calendar-event/students-return
END:VEVENT
BEGIN:VEVENT
DTSTART;VALUE=DATE:20221010
DTEND;VALUE=DATE:20221015
DTSTAMP:20260423T070834
CREATED:20230512T162459Z
LAST-MODIFIED:20230512T162459Z
UID:368285-1665360000-1665791999@www.staracademycharter.org
SUMMARY:Fall Break
DESCRIPTION:
URL:https://www.staracademycharter.org/calendar-event/fall-break
END:VEVENT
BEGIN:VEVENT
DTSTART;VALUE=DATE:20221007
DTEND;VALUE=DATE:20221008
DTSTAMP:20260423T070834
CREATED:20230512T162432Z
LAST-MODIFIED:20230512T162432Z
UID:368283-1665100800-1665187199@www.staracademycharter.org
SUMMARY:1st Quarter Ends
DESCRIPTION:
URL:https://www.staracademycharter.org/calendar-event/1st-quarter-ends
END:VEVENT
BEGIN:VEVENT
DTSTART;TZID=America/Chicago:20221004T180000
DTEND;TZID=America/Chicago:20221004T180000
DTSTAMP:20260423T070834
CREATED:20230512T164245Z
LAST-MODIFIED:20230512T164245Z
UID:368390-1664906400-1664906400@www.staracademycharter.org
SUMMARY:PTO Meeting
DESCRIPTION:
URL:https://www.staracademycharter.org/calendar-event/pto-meeting-6
END:VEVENT
BEGIN:VEVENT
DTSTART;TZID=America/Chicago:20220927T180000
DTEND;TZID=America/Chicago:20220927T180000
DTSTAMP:20260423T070834
CREATED:20230512T164217Z
LAST-MODIFIED:20230512T164217Z
UID:368388-1664301600-1664301600@www.staracademycharter.org
SUMMARY:PTO Meeting
DESCRIPTION:
URL:https://www.staracademycharter.org/calendar-event/pto-meeting-5
END:VEVENT
BEGIN:VEVENT
DTSTART;TZID=America/Chicago:20220908T160000
DTEND;TZID=America/Chicago:20220908T190000
DTSTAMP:20260423T070834
CREATED:20230512T162414Z
LAST-MODIFIED:20230512T162414Z
UID:368281-1662652800-1662663600@www.staracademycharter.org
SUMMARY:Parent-Teacher Conferences and Q1 Progress Reports Distribution
DESCRIPTION:
URL:https://www.staracademycharter.org/calendar-event/parent-teacher-conferences-and-q1-progress-reports-distribution
END:VEVENT
BEGIN:VEVENT
DTSTART;TZID=America/Chicago:20220906T180000
DTEND;TZID=America/Chicago:20220906T180000
DTSTAMP:20260423T070834
CREATED:20230512T164154Z
LAST-MODIFIED:20230512T164154Z
UID:368386-1662487200-1662487200@www.staracademycharter.org
SUMMARY:PTO Meeting
DESCRIPTION:
URL:https://www.staracademycharter.org/calendar-event/pto-meeting-3
END:VEVENT
BEGIN:VEVENT
DTSTART;VALUE=DATE:20220905
DTEND;VALUE=DATE:20220906
DTSTAMP:20260423T070834
CREATED:20230512T162338Z
LAST-MODIFIED:20230512T162338Z
UID:368279-1662336000-1662422399@www.staracademycharter.org
SUMMARY:Labor Day
DESCRIPTION:
URL:https://www.staracademycharter.org/calendar-event/labor-day
END:VEVENT
BEGIN:VEVENT
DTSTART;TZID=America/Chicago:20220823T180000
DTEND;TZID=America/Chicago:20220823T180000
DTSTAMP:20260423T070834
CREATED:20230512T164102Z
LAST-MODIFIED:20230512T164102Z
UID:368384-1661277600-1661277600@www.staracademycharter.org
SUMMARY:PTO Meeting
DESCRIPTION:
URL:https://www.staracademycharter.org/calendar-event/pto-meeting-4
END:VEVENT
BEGIN:VEVENT
DTSTART;TZID=America/Chicago:20220818T170000
DTEND;TZID=America/Chicago:20220818T183000
DTSTAMP:20260423T070834
CREATED:20230512T162250Z
LAST-MODIFIED:20230512T162250Z
UID:368277-1660842000-1660847400@www.staracademycharter.org
SUMMARY:Open House /Annual Title I Parent Meeting
DESCRIPTION:
URL:https://www.staracademycharter.org/calendar-event/open-house-annual-title-i-parent-meeting-2
END:VEVENT
BEGIN:VEVENT
DTSTART;TZID=America/Chicago:20220818T083000
DTEND;TZID=America/Chicago:20220818T093000
DTSTAMP:20260423T070834
CREATED:20230512T162217Z
LAST-MODIFIED:20230512T162217Z
UID:368275-1660811400-1660815000@www.staracademycharter.org
SUMMARY:Open House /Annual Title I Parent Meeting
DESCRIPTION:
URL:https://www.staracademycharter.org/calendar-event/open-house-annual-title-i-parent-meeting
END:VEVENT
BEGIN:VEVENT
DTSTART;VALUE=DATE:20220808
DTEND;VALUE=DATE:20220809
DTSTAMP:20260423T070834
CREATED:20230512T162111Z
LAST-MODIFIED:20230512T162111Z
UID:368273-1659916800-1660003199@www.staracademycharter.org
SUMMARY:1st Quarter Begins
DESCRIPTION:
URL:https://www.staracademycharter.org/calendar-event/1st-quarter-begins
END:VEVENT
BEGIN:VEVENT
DTSTART;VALUE=DATE:20220808
DTEND;VALUE=DATE:20220809
DTSTAMP:20260423T070834
CREATED:20230512T162055Z
LAST-MODIFIED:20230512T162055Z
UID:368271-1659916800-1660003199@www.staracademycharter.org
SUMMARY:First Day of School for Students
DESCRIPTION:
URL:https://www.staracademycharter.org/calendar-event/first-day-of-school-for-students
END:VEVENT
BEGIN:VEVENT
DTSTART;VALUE=DATE:20220808
DTEND;VALUE=DATE:20220809
DTSTAMP:20260423T070834
CREATED:20230512T162035Z
LAST-MODIFIED:20230512T162035Z
UID:368269-1659916800-1660003199@www.staracademycharter.org
SUMMARY:1st Semester Begins
DESCRIPTION:
URL:https://www.staracademycharter.org/calendar-event/1st-semester-begins
END:VEVENT
BEGIN:VEVENT
DTSTART;VALUE=DATE:20220805
DTEND;VALUE=DATE:20220806
DTSTAMP:20260423T070834
CREATED:20230512T161908Z
LAST-MODIFIED:20230512T161908Z
UID:368267-1659657600-1659743999@www.staracademycharter.org
SUMMARY:Administrative Day
DESCRIPTION:
URL:https://www.staracademycharter.org/calendar-event/administrative-day-2
END:VEVENT
BEGIN:VEVENT
DTSTART;TZID=America/Chicago:20220801T080000
DTEND;TZID=America/Chicago:20220801T160000
DTSTAMP:20260423T070834
CREATED:20230512T161842Z
LAST-MODIFIED:20230512T161842Z
UID:368262-1659340800-1659369600@www.staracademycharter.org
SUMMARY:Professional Development Days
DESCRIPTION:
URL:https://www.staracademycharter.org/calendar-event/professional-development-days/2022-08-01
END:VEVENT
BEGIN:VEVENT
DTSTART;VALUE=DATE:20220730
DTEND;VALUE=DATE:20220731
DTSTAMP:20260423T070834
CREATED:20230512T161800Z
LAST-MODIFIED:20230512T161800Z
UID:368260-1659139200-1659225599@www.staracademycharter.org
SUMMARY:Registration for New Families
DESCRIPTION:
URL:https://www.staracademycharter.org/calendar-event/registration-for-new-families
END:VEVENT
BEGIN:VEVENT
DTSTART;TZID=America/Chicago:20220729T080000
DTEND;TZID=America/Chicago:20220729T160000
DTSTAMP:20260423T070834
CREATED:20230512T161700Z
LAST-MODIFIED:20230512T161700Z
UID:368256-1659081600-1659110400@www.staracademycharter.org
SUMMARY:Administrative Day
DESCRIPTION:
URL:https://www.staracademycharter.org/calendar-event/administrative-day
END:VEVENT
BEGIN:VEVENT
DTSTART;VALUE=DATE:20220729
DTEND;VALUE=DATE:20220730
DTSTAMP:20260423T070834
CREATED:20230512T161739Z
LAST-MODIFIED:20230512T161739Z
UID:368258-1659052800-1659139199@www.staracademycharter.org
SUMMARY:Registration for Returning Families
DESCRIPTION:
URL:https://www.staracademycharter.org/calendar-event/registration-for-returning-families
END:VEVENT
BEGIN:VEVENT
DTSTART;TZID=America/Chicago:20220727T090000
DTEND;TZID=America/Chicago:20220727T130000
DTSTAMP:20260423T070834
CREATED:20230512T161621Z
LAST-MODIFIED:20230512T161621Z
UID:368252-1658912400-1658926800@www.staracademycharter.org
SUMMARY:Professional Development Day
DESCRIPTION:
URL:https://www.staracademycharter.org/calendar-event/professional-development-day/2022-07-27
END:VEVENT
END:VCALENDAR