BEGIN:VCALENDAR
VERSION:2.0
PRODID:-//Star Academy Charter - ECPv6.15.17.1//NONSGML v1.0//EN
CALSCALE:GREGORIAN
METHOD:PUBLISH
X-WR-CALNAME:Star Academy Charter
X-ORIGINAL-URL:https://www.staracademycharter.org
X-WR-CALDESC:Events for Star Academy Charter
REFRESH-INTERVAL;VALUE=DURATION:PT1H
X-Robots-Tag:noindex
X-PUBLISHED-TTL:PT1H
BEGIN:VTIMEZONE
TZID:America/Chicago
BEGIN:DAYLIGHT
TZOFFSETFROM:-0600
TZOFFSETTO:-0500
TZNAME:CDT
DTSTART:20230312T080000
END:DAYLIGHT
BEGIN:STANDARD
TZOFFSETFROM:-0500
TZOFFSETTO:-0600
TZNAME:CST
DTSTART:20231105T070000
END:STANDARD
BEGIN:DAYLIGHT
TZOFFSETFROM:-0600
TZOFFSETTO:-0500
TZNAME:CDT
DTSTART:20240310T080000
END:DAYLIGHT
BEGIN:STANDARD
TZOFFSETFROM:-0500
TZOFFSETTO:-0600
TZNAME:CST
DTSTART:20241103T070000
END:STANDARD
BEGIN:DAYLIGHT
TZOFFSETFROM:-0600
TZOFFSETTO:-0500
TZNAME:CDT
DTSTART:20250309T080000
END:DAYLIGHT
BEGIN:STANDARD
TZOFFSETFROM:-0500
TZOFFSETTO:-0600
TZNAME:CST
DTSTART:20251102T070000
END:STANDARD
BEGIN:DAYLIGHT
TZOFFSETFROM:-0600
TZOFFSETTO:-0500
TZNAME:CDT
DTSTART:20260308T080000
END:DAYLIGHT
BEGIN:STANDARD
TZOFFSETFROM:-0500
TZOFFSETTO:-0600
TZNAME:CST
DTSTART:20261101T070000
END:STANDARD
END:VTIMEZONE
BEGIN:VEVENT
DTSTART;VALUE=DATE:20250120
DTEND;VALUE=DATE:20250121
DTSTAMP:20260422T112644
CREATED:20240730T022313Z
LAST-MODIFIED:20240730T022313Z
UID:369435-1737331200-1737417599@www.staracademycharter.org
SUMMARY:Dr. Martin Luther King\, Jr. Holiday
DESCRIPTION:
URL:https://www.staracademycharter.org/calendar-event/dr-martin-luther-king-jr-holiday-2
END:VEVENT
BEGIN:VEVENT
DTSTART;VALUE=DATE:20250106
DTEND;VALUE=DATE:20250107
DTSTAMP:20260422T112644
CREATED:20240730T022235Z
LAST-MODIFIED:20240730T022235Z
UID:369433-1736121600-1736207999@www.staracademycharter.org
SUMMARY:Third 9 Weeks Begins
DESCRIPTION:
URL:https://www.staracademycharter.org/calendar-event/third-9-weeks-begins
END:VEVENT
BEGIN:VEVENT
DTSTART;VALUE=DATE:20241230
DTEND;VALUE=DATE:20250104
DTSTAMP:20260422T112644
CREATED:20240730T022002Z
LAST-MODIFIED:20240730T022002Z
UID:369431-1735516800-1735948799@www.staracademycharter.org
SUMMARY:Winter Break
DESCRIPTION:
URL:https://www.staracademycharter.org/calendar-event/winter-break-3
END:VEVENT
BEGIN:VEVENT
DTSTART;VALUE=DATE:20241223
DTEND;VALUE=DATE:20241228
DTSTAMP:20260422T112644
CREATED:20240730T021707Z
LAST-MODIFIED:20240730T021707Z
UID:369429-1734912000-1735343999@www.staracademycharter.org
SUMMARY:Winter Break
DESCRIPTION:
URL:https://www.staracademycharter.org/calendar-event/winter-break-2
END:VEVENT
BEGIN:VEVENT
DTSTART;VALUE=DATE:20241220
DTEND;VALUE=DATE:20241221
DTSTAMP:20260422T112644
CREATED:20240730T021609Z
LAST-MODIFIED:20240730T021609Z
UID:369427-1734652800-1734739199@www.staracademycharter.org
SUMMARY:First Semester & Second 9 Weeks End
DESCRIPTION:
URL:https://www.staracademycharter.org/calendar-event/first-semester-second-9-weeks-end
END:VEVENT
BEGIN:VEVENT
DTSTART;VALUE=DATE:20241125
DTEND;VALUE=DATE:20241130
DTSTAMP:20260422T112644
CREATED:20240730T021050Z
LAST-MODIFIED:20240730T021050Z
UID:369425-1732492800-1732924799@www.staracademycharter.org
SUMMARY:Thanksgiving Break
DESCRIPTION:
URL:https://www.staracademycharter.org/calendar-event/thanksgiving-break-2
END:VEVENT
BEGIN:VEVENT
DTSTART;VALUE=DATE:20241111
DTEND;VALUE=DATE:20241112
DTSTAMP:20260422T112644
CREATED:20240730T020942Z
LAST-MODIFIED:20240730T020942Z
UID:369422-1731283200-1731369599@www.staracademycharter.org
SUMMARY:Veteran's Day - No School
DESCRIPTION:
URL:https://www.staracademycharter.org/calendar-event/veterans-day-no-school-2
END:VEVENT
BEGIN:VEVENT
DTSTART;VALUE=DATE:20241105
DTEND;VALUE=DATE:20241106
DTSTAMP:20260422T112644
CREATED:20240730T020840Z
LAST-MODIFIED:20240730T021013Z
UID:369420-1730764800-1730851199@www.staracademycharter.org
SUMMARY:Professional Development Day - No School
DESCRIPTION:
URL:https://www.staracademycharter.org/calendar-event/professional-development-day-7
END:VEVENT
BEGIN:VEVENT
DTSTART;VALUE=DATE:20241105
DTEND;VALUE=DATE:20241106
DTSTAMP:20260422T112644
CREATED:20240730T020801Z
LAST-MODIFIED:20240730T020801Z
UID:369418-1730764800-1730851199@www.staracademycharter.org
SUMMARY:Election Day
DESCRIPTION:
URL:https://www.staracademycharter.org/calendar-event/election-day
END:VEVENT
BEGIN:VEVENT
DTSTART;VALUE=DATE:20241014
DTEND;VALUE=DATE:20241015
DTSTAMP:20260422T112644
CREATED:20240730T020312Z
LAST-MODIFIED:20240730T020423Z
UID:369415-1728864000-1728950399@www.staracademycharter.org
SUMMARY:Second 9 Weeks Begins
DESCRIPTION:
URL:https://www.staracademycharter.org/calendar-event/2nd-nine-weeks-begins
END:VEVENT
BEGIN:VEVENT
DTSTART;VALUE=DATE:20241007
DTEND;VALUE=DATE:20241012
DTSTAMP:20260422T112644
CREATED:20240730T015923Z
LAST-MODIFIED:20240730T015923Z
UID:369413-1728259200-1728691199@www.staracademycharter.org
SUMMARY:Fall Break
DESCRIPTION:
URL:https://www.staracademycharter.org/calendar-event/fall-break-2
END:VEVENT
BEGIN:VEVENT
DTSTART;VALUE=DATE:20241004
DTEND;VALUE=DATE:20241005
DTSTAMP:20260422T112644
CREATED:20240730T015352Z
LAST-MODIFIED:20240730T015352Z
UID:369411-1728000000-1728086399@www.staracademycharter.org
SUMMARY:First 9 Weeks Ends
DESCRIPTION:
URL:https://www.staracademycharter.org/calendar-event/first-9-weeks-ends
END:VEVENT
BEGIN:VEVENT
DTSTART;TZID=America/Chicago:20240905T160000
DTEND;TZID=America/Chicago:20240905T190000
DTSTAMP:20260422T112644
CREATED:20240730T014335Z
LAST-MODIFIED:20240730T014838Z
UID:369409-1725552000-1725562800@www.staracademycharter.org
SUMMARY:Parent-Teacher Conferences
DESCRIPTION:
URL:https://www.staracademycharter.org/calendar-event/parent-teacher-conferences-3
END:VEVENT
BEGIN:VEVENT
DTSTART;VALUE=DATE:20240902
DTEND;VALUE=DATE:20240903
DTSTAMP:20260422T112644
CREATED:20240730T014148Z
LAST-MODIFIED:20240730T014939Z
UID:369407-1725235200-1725321599@www.staracademycharter.org
SUMMARY:Labor Day - No School
DESCRIPTION:
URL:https://www.staracademycharter.org/calendar-event/labor-day-no-school-2
END:VEVENT
BEGIN:VEVENT
DTSTART;VALUE=DATE:20240805
DTEND;VALUE=DATE:20240806
DTSTAMP:20260422T112644
CREATED:20240730T013702Z
LAST-MODIFIED:20240730T014905Z
UID:369403-1722816000-1722902399@www.staracademycharter.org
SUMMARY:First 9 Weeks Begins
DESCRIPTION:
URL:https://www.staracademycharter.org/calendar-event/1st-9-weeks-begins
END:VEVENT
BEGIN:VEVENT
DTSTART;VALUE=DATE:20240805
DTEND;VALUE=DATE:20240806
DTSTAMP:20260422T112644
CREATED:20240730T012847Z
LAST-MODIFIED:20240730T012847Z
UID:369401-1722816000-1722902399@www.staracademycharter.org
SUMMARY:First Day for Students
DESCRIPTION:
URL:https://www.staracademycharter.org/calendar-event/first-day-for-students
END:VEVENT
BEGIN:VEVENT
DTSTART;VALUE=DATE:20240802
DTEND;VALUE=DATE:20240803
DTSTAMP:20260422T112644
CREATED:20240730T035420Z
LAST-MODIFIED:20240730T035420Z
UID:369474-1722556800-1722643199@www.staracademycharter.org
SUMMARY:Administrative Day
DESCRIPTION:
URL:https://www.staracademycharter.org/calendar-event/administrative-day-9
END:VEVENT
BEGIN:VEVENT
DTSTART;VALUE=DATE:20240801
DTEND;VALUE=DATE:20240802
DTSTAMP:20260422T112644
CREATED:20240730T034843Z
LAST-MODIFIED:20240730T034843Z
UID:369472-1722470400-1722556799@www.staracademycharter.org
SUMMARY:Professional Development
DESCRIPTION:
URL:https://www.staracademycharter.org/calendar-event/professional-development-5
END:VEVENT
BEGIN:VEVENT
DTSTART;VALUE=DATE:20240731
DTEND;VALUE=DATE:20240801
DTSTAMP:20260422T112644
CREATED:20240730T034734Z
LAST-MODIFIED:20240730T034734Z
UID:369470-1722384000-1722470399@www.staracademycharter.org
SUMMARY:Professional Development
DESCRIPTION:
URL:https://www.staracademycharter.org/calendar-event/professional-development-4
END:VEVENT
BEGIN:VEVENT
DTSTART;VALUE=DATE:20240730
DTEND;VALUE=DATE:20240731
DTSTAMP:20260422T112644
CREATED:20240730T030612Z
LAST-MODIFIED:20240730T030612Z
UID:369468-1722297600-1722383999@www.staracademycharter.org
SUMMARY:Administrative Day
DESCRIPTION:
URL:https://www.staracademycharter.org/calendar-event/administrative-day-8
END:VEVENT
BEGIN:VEVENT
DTSTART;VALUE=DATE:20240729
DTEND;VALUE=DATE:20240730
DTSTAMP:20260422T112644
CREATED:20240730T030409Z
LAST-MODIFIED:20240730T030409Z
UID:369466-1722211200-1722297599@www.staracademycharter.org
SUMMARY:1⁄2 Professional Development & 1⁄2 Administrative Day
DESCRIPTION:
URL:https://www.staracademycharter.org/calendar-event/1%e2%81%842-professional-development-1%e2%81%842-administrative-day
END:VEVENT
BEGIN:VEVENT
DTSTART;VALUE=DATE:20240601
DTEND;VALUE=DATE:20240602
DTSTAMP:20260422T112644
CREATED:20230725T210526Z
LAST-MODIFIED:20230725T210526Z
UID:369058-1717200000-1717286399@www.staracademycharter.org
SUMMARY:Report Card Mailed
DESCRIPTION:
URL:https://www.staracademycharter.org/calendar-event/report-card-mailed
END:VEVENT
BEGIN:VEVENT
DTSTART;VALUE=DATE:20240530
DTEND;VALUE=DATE:20240531
DTSTAMP:20260422T112644
CREATED:20230725T204112Z
LAST-MODIFIED:20230725T204112Z
UID:369050-1717027200-1717113599@www.staracademycharter.org
SUMMARY:Professional Development Day
DESCRIPTION:
URL:https://www.staracademycharter.org/calendar-event/professional-development-day-6
END:VEVENT
BEGIN:VEVENT
DTSTART;VALUE=DATE:20240529
DTEND;VALUE=DATE:20240530
DTSTAMP:20260422T112644
CREATED:20230725T204057Z
LAST-MODIFIED:20230725T204057Z
UID:369048-1716940800-1717027199@www.staracademycharter.org
SUMMARY:Professional Development Day
DESCRIPTION:
URL:https://www.staracademycharter.org/calendar-event/professional-development-day-5
END:VEVENT
BEGIN:VEVENT
DTSTART;VALUE=DATE:20240528
DTEND;VALUE=DATE:20240529
DTSTAMP:20260422T112644
CREATED:20230725T204036Z
LAST-MODIFIED:20230725T204036Z
UID:369046-1716854400-1716940799@www.staracademycharter.org
SUMMARY:Teacher Administrative Day
DESCRIPTION:
URL:https://www.staracademycharter.org/calendar-event/teacher-administrative-day-2
END:VEVENT
BEGIN:VEVENT
DTSTART;VALUE=DATE:20240527
DTEND;VALUE=DATE:20240528
DTSTAMP:20260422T112644
CREATED:20230725T204017Z
LAST-MODIFIED:20230725T204017Z
UID:369044-1716768000-1716854399@www.staracademycharter.org
SUMMARY:Memorial Day - No School
DESCRIPTION:
URL:https://www.staracademycharter.org/calendar-event/memorial-day-no-school
END:VEVENT
BEGIN:VEVENT
DTSTART;VALUE=DATE:20240524
DTEND;VALUE=DATE:20240525
DTSTAMP:20260422T112644
CREATED:20230725T203956Z
LAST-MODIFIED:20230725T203956Z
UID:369042-1716508800-1716595199@www.staracademycharter.org
SUMMARY:4th Quarter Ends
DESCRIPTION:
URL:https://www.staracademycharter.org/calendar-event/4th-quarter-ends-2
END:VEVENT
BEGIN:VEVENT
DTSTART;VALUE=DATE:20240524
DTEND;VALUE=DATE:20240525
DTSTAMP:20260422T112644
CREATED:20230725T203941Z
LAST-MODIFIED:20230725T203941Z
UID:369039-1716508800-1716595199@www.staracademycharter.org
SUMMARY:Last Day of School for Students
DESCRIPTION:
URL:https://www.staracademycharter.org/calendar-event/last-day-of-school-for-students-2
END:VEVENT
BEGIN:VEVENT
DTSTART;TZID=America/Chicago:20240523T083000
DTEND;TZID=America/Chicago:20240523T093000
DTSTAMP:20260422T112644
CREATED:20230725T203924Z
LAST-MODIFIED:20230725T203924Z
UID:369037-1716453000-1716456600@www.staracademycharter.org
SUMMARY:Fifth Grade Transitional Program
DESCRIPTION:
URL:https://www.staracademycharter.org/calendar-event/fifth-grade-transitional-program-2
END:VEVENT
BEGIN:VEVENT
DTSTART;TZID=America/Chicago:20240521T170000
DTEND;TZID=America/Chicago:20240521T173000
DTSTAMP:20260422T112644
CREATED:20230725T203900Z
LAST-MODIFIED:20230725T203900Z
UID:369035-1716310800-1716312600@www.staracademycharter.org
SUMMARY:6th Grade Send Off Drive Through Parade
DESCRIPTION:
URL:https://www.staracademycharter.org/calendar-event/6th-grade-send-off-drive-through-parade-2
END:VEVENT
END:VCALENDAR