BEGIN:VCALENDAR
VERSION:2.0
PRODID:-//Star Academy Charter - ECPv6.15.17.1//NONSGML v1.0//EN
CALSCALE:GREGORIAN
METHOD:PUBLISH
X-ORIGINAL-URL:https://www.staracademycharter.org
X-WR-CALDESC:Events for Star Academy Charter
REFRESH-INTERVAL;VALUE=DURATION:PT1H
X-Robots-Tag:noindex
X-PUBLISHED-TTL:PT1H
BEGIN:VTIMEZONE
TZID:America/Chicago
BEGIN:DAYLIGHT
TZOFFSETFROM:-0600
TZOFFSETTO:-0500
TZNAME:CDT
DTSTART:20220313T080000
END:DAYLIGHT
BEGIN:STANDARD
TZOFFSETFROM:-0500
TZOFFSETTO:-0600
TZNAME:CST
DTSTART:20221106T070000
END:STANDARD
BEGIN:DAYLIGHT
TZOFFSETFROM:-0600
TZOFFSETTO:-0500
TZNAME:CDT
DTSTART:20230312T080000
END:DAYLIGHT
BEGIN:STANDARD
TZOFFSETFROM:-0500
TZOFFSETTO:-0600
TZNAME:CST
DTSTART:20231105T070000
END:STANDARD
BEGIN:DAYLIGHT
TZOFFSETFROM:-0600
TZOFFSETTO:-0500
TZNAME:CDT
DTSTART:20240310T080000
END:DAYLIGHT
BEGIN:STANDARD
TZOFFSETFROM:-0500
TZOFFSETTO:-0600
TZNAME:CST
DTSTART:20241103T070000
END:STANDARD
BEGIN:DAYLIGHT
TZOFFSETFROM:-0600
TZOFFSETTO:-0500
TZNAME:CDT
DTSTART:20250309T080000
END:DAYLIGHT
BEGIN:STANDARD
TZOFFSETFROM:-0500
TZOFFSETTO:-0600
TZNAME:CST
DTSTART:20251102T070000
END:STANDARD
END:VTIMEZONE
BEGIN:VEVENT
DTSTART;VALUE=DATE:20240219
DTEND;VALUE=DATE:20240220
DTSTAMP:20260422T174056
CREATED:20230725T203257Z
LAST-MODIFIED:20230725T210226Z
UID:369005-1708300800-1708387199@www.staracademycharter.org
SUMMARY:Professional Development - No Students
DESCRIPTION:
URL:https://www.staracademycharter.org/calendar-event/professional-development-2
END:VEVENT
BEGIN:VEVENT
DTSTART;TZID=America/Chicago:20240215T160000
DTEND;TZID=America/Chicago:20240215T190000
DTSTAMP:20260422T174056
CREATED:20230725T203239Z
LAST-MODIFIED:20230725T203239Z
UID:369003-1708012800-1708023600@www.staracademycharter.org
SUMMARY:SLT Scholars of Concern Family Meetings
DESCRIPTION:
URL:https://www.staracademycharter.org/calendar-event/slt-scholars-of-concern-family-meetings-2
END:VEVENT
BEGIN:VEVENT
DTSTART;TZID=America/Chicago:20240215T160000
DTEND;TZID=America/Chicago:20240215T190000
DTSTAMP:20260422T174056
CREATED:20230725T203200Z
LAST-MODIFIED:20230725T203200Z
UID:368999-1708012800-1708023600@www.staracademycharter.org
SUMMARY:Parent/Teacher Conferences
DESCRIPTION:
URL:https://www.staracademycharter.org/calendar-event/parent-teacher-conferences-2
END:VEVENT
BEGIN:VEVENT
DTSTART;VALUE=DATE:20240215
DTEND;VALUE=DATE:20240216
DTSTAMP:20260422T174056
CREATED:20230725T203216Z
LAST-MODIFIED:20230725T203216Z
UID:369001-1707955200-1708041599@www.staracademycharter.org
SUMMARY:Q3 Progress Reports Distribution
DESCRIPTION:
URL:https://www.staracademycharter.org/calendar-event/q3-progress-reports-distribution
END:VEVENT
BEGIN:VEVENT
DTSTART;TZID=America/Chicago:20240207T093000
DTEND;TZID=America/Chicago:20240207T110000
DTSTAMP:20260422T174056
CREATED:20240129T182810Z
LAST-MODIFIED:20240129T182810Z
UID:369133-1707298200-1707303600@www.staracademycharter.org
SUMMARY:Admissions Tour
DESCRIPTION:
URL:https://www.staracademycharter.org/calendar-event/admissions-tour
END:VEVENT
BEGIN:VEVENT
DTSTART;VALUE=DATE:20240115
DTEND;VALUE=DATE:20240116
DTSTAMP:20260422T174056
CREATED:20230725T203131Z
LAST-MODIFIED:20230725T203131Z
UID:368997-1705276800-1705363199@www.staracademycharter.org
SUMMARY:Dr. Martin Luther King Jr. Holiday - No School
DESCRIPTION:
URL:https://www.staracademycharter.org/calendar-event/dr-martin-luther-king-jr-holiday-no-school
END:VEVENT
BEGIN:VEVENT
DTSTART;VALUE=DATE:20240106
DTEND;VALUE=DATE:20240107
DTSTAMP:20260422T174056
CREATED:20230725T203112Z
LAST-MODIFIED:20230725T203112Z
UID:368995-1704499200-1704585599@www.staracademycharter.org
SUMMARY:Q2 Report-Card Distribution
DESCRIPTION:
URL:https://www.staracademycharter.org/calendar-event/q2-report-card-distribution-2
END:VEVENT
BEGIN:VEVENT
DTSTART;VALUE=DATE:20240104
DTEND;VALUE=DATE:20240105
DTSTAMP:20260422T174056
CREATED:20230725T203057Z
LAST-MODIFIED:20230725T203057Z
UID:368993-1704326400-1704412799@www.staracademycharter.org
SUMMARY:3rd Quarter Begins
DESCRIPTION:
URL:https://www.staracademycharter.org/calendar-event/3rd-quarter-begins-2
END:VEVENT
BEGIN:VEVENT
DTSTART;VALUE=DATE:20240104
DTEND;VALUE=DATE:20240105
DTSTAMP:20260422T174056
CREATED:20230725T203042Z
LAST-MODIFIED:20230725T203042Z
UID:368991-1704326400-1704412799@www.staracademycharter.org
SUMMARY:Students Return
DESCRIPTION:
URL:https://www.staracademycharter.org/calendar-event/students-return-6
END:VEVENT
BEGIN:VEVENT
DTSTART;VALUE=DATE:20240104
DTEND;VALUE=DATE:20240105
DTSTAMP:20260422T174056
CREATED:20230725T203025Z
LAST-MODIFIED:20230725T203025Z
UID:368989-1704326400-1704412799@www.staracademycharter.org
SUMMARY:2nd Semester Begins
DESCRIPTION:
URL:https://www.staracademycharter.org/calendar-event/2nd-semester-begins-2
END:VEVENT
BEGIN:VEVENT
DTSTART;VALUE=DATE:20231221
DTEND;VALUE=DATE:20240104
DTSTAMP:20260422T174056
CREATED:20230725T203008Z
LAST-MODIFIED:20230725T203008Z
UID:368987-1703116800-1704326399@www.staracademycharter.org
SUMMARY:Winter Break - No School
DESCRIPTION:
URL:https://www.staracademycharter.org/calendar-event/winter-break-no-school
END:VEVENT
BEGIN:VEVENT
DTSTART;TZID=America/Chicago:20231220T070000
DTEND;TZID=America/Chicago:20231220T070000
DTSTAMP:20260422T174056
CREATED:20230726T134242Z
LAST-MODIFIED:20230726T134242Z
UID:369069-1703055600-1703055600@www.staracademycharter.org
SUMMARY:Board Meeting
DESCRIPTION:
URL:https://www.staracademycharter.org/calendar-event/board-meeting-4
LOCATION:Room 108
END:VEVENT
BEGIN:VEVENT
DTSTART;VALUE=DATE:20231220
DTEND;VALUE=DATE:20231221
DTSTAMP:20260422T174056
CREATED:20230725T202927Z
LAST-MODIFIED:20230725T202927Z
UID:368985-1703030400-1703116799@www.staracademycharter.org
SUMMARY:2nd Quarter Ends
DESCRIPTION:
URL:https://www.staracademycharter.org/calendar-event/2nd-quarter-ends-2
END:VEVENT
BEGIN:VEVENT
DTSTART;VALUE=DATE:20231220
DTEND;VALUE=DATE:20231221
DTSTAMP:20260422T174056
CREATED:20230725T202909Z
LAST-MODIFIED:20230725T202909Z
UID:368983-1703030400-1703116799@www.staracademycharter.org
SUMMARY:1st Semester Ends
DESCRIPTION:
URL:https://www.staracademycharter.org/calendar-event/1st-semester-ends-2
END:VEVENT
BEGIN:VEVENT
DTSTART;VALUE=DATE:20231215
DTEND;VALUE=DATE:20231216
DTSTAMP:20260422T174056
CREATED:20230725T202855Z
LAST-MODIFIED:20230725T202855Z
UID:368981-1702598400-1702684799@www.staracademycharter.org
SUMMARY:Winter Program
DESCRIPTION:
URL:https://www.staracademycharter.org/calendar-event/winter-program-2
END:VEVENT
BEGIN:VEVENT
DTSTART;VALUE=DATE:20231211
DTEND;VALUE=DATE:20231216
DTSTAMP:20260422T174056
CREATED:20230725T202839Z
LAST-MODIFIED:20230725T202839Z
UID:368979-1702252800-1702684799@www.staracademycharter.org
SUMMARY:1st Semester Exams/Interim Assessments
DESCRIPTION:
URL:https://www.staracademycharter.org/calendar-event/1st-semester-exams-interim-assessments-2
END:VEVENT
BEGIN:VEVENT
DTSTART;TZID=America/Chicago:20231129T070000
DTEND;TZID=America/Chicago:20231129T070000
DTSTAMP:20260422T174056
CREATED:20230726T134214Z
LAST-MODIFIED:20230726T134214Z
UID:369067-1701241200-1701241200@www.staracademycharter.org
SUMMARY:Board Meeting
DESCRIPTION:
URL:https://www.staracademycharter.org/calendar-event/board-meeting-3
LOCATION:Room 108
END:VEVENT
BEGIN:VEVENT
DTSTART;VALUE=DATE:20231120
DTEND;VALUE=DATE:20231125
DTSTAMP:20260422T174056
CREATED:20230725T202819Z
LAST-MODIFIED:20230725T202819Z
UID:368977-1700438400-1700870399@www.staracademycharter.org
SUMMARY:Thanksgiving Break - No School
DESCRIPTION:
URL:https://www.staracademycharter.org/calendar-event/thanksgiving-break-no-school
END:VEVENT
BEGIN:VEVENT
DTSTART;TZID=America/Chicago:20231116T160000
DTEND;TZID=America/Chicago:20231116T190000
DTSTAMP:20260422T174056
CREATED:20230725T202755Z
LAST-MODIFIED:20230725T202755Z
UID:368975-1700150400-1700161200@www.staracademycharter.org
SUMMARY:Parent/Teacher Collaboratives (Students of Concern)
DESCRIPTION:
URL:https://www.staracademycharter.org/calendar-event/parent-teacher-collaboratives-students-of-concern-2
END:VEVENT
BEGIN:VEVENT
DTSTART;VALUE=DATE:20231116
DTEND;VALUE=DATE:20231117
DTSTAMP:20260422T174056
CREATED:20230725T202731Z
LAST-MODIFIED:20230725T202731Z
UID:368973-1700092800-1700179199@www.staracademycharter.org
SUMMARY:Q2 Progress Reports Distribution
DESCRIPTION:
URL:https://www.staracademycharter.org/calendar-event/q2-progress-reports-distribution-2
END:VEVENT
BEGIN:VEVENT
DTSTART;VALUE=DATE:20231110
DTEND;VALUE=DATE:20231111
DTSTAMP:20260422T174056
CREATED:20230725T202716Z
LAST-MODIFIED:20230725T202716Z
UID:368971-1699574400-1699660799@www.staracademycharter.org
SUMMARY:Veteran’s Day - No School
DESCRIPTION:
URL:https://www.staracademycharter.org/calendar-event/veterans-day-no-school
END:VEVENT
BEGIN:VEVENT
DTSTART;TZID=America/Chicago:20231025T070000
DTEND;TZID=America/Chicago:20231025T070000
DTSTAMP:20260422T174056
CREATED:20230726T134148Z
LAST-MODIFIED:20230726T134148Z
UID:369065-1698217200-1698217200@www.staracademycharter.org
SUMMARY:Board Meeting
DESCRIPTION:
URL:https://www.staracademycharter.org/calendar-event/board-meeting-2
LOCATION:Room 108
END:VEVENT
BEGIN:VEVENT
DTSTART;TZID=America/Chicago:20231019T170000
DTEND;TZID=America/Chicago:20231019T183000
DTSTAMP:20260422T174056
CREATED:20230725T202643Z
LAST-MODIFIED:20230725T202643Z
UID:368967-1697734800-1697740200@www.staracademycharter.org
SUMMARY:Literacy Night
DESCRIPTION:
URL:https://www.staracademycharter.org/calendar-event/literacy-night
END:VEVENT
BEGIN:VEVENT
DTSTART;VALUE=DATE:20231019
DTEND;VALUE=DATE:20231020
DTSTAMP:20260422T174056
CREATED:20230725T202657Z
LAST-MODIFIED:20230725T202657Z
UID:368969-1697673600-1697759999@www.staracademycharter.org
SUMMARY:Q1 Report-Card Distribution
DESCRIPTION:
URL:https://www.staracademycharter.org/calendar-event/q1-report-card-distribution
END:VEVENT
BEGIN:VEVENT
DTSTART;VALUE=DATE:20231016
DTEND;VALUE=DATE:20231017
DTSTAMP:20260422T174056
CREATED:20230725T202610Z
LAST-MODIFIED:20230725T202610Z
UID:368965-1697414400-1697500799@www.staracademycharter.org
SUMMARY:2nd Quarter Begins
DESCRIPTION:
URL:https://www.staracademycharter.org/calendar-event/2nd-quarter-begins
END:VEVENT
BEGIN:VEVENT
DTSTART;VALUE=DATE:20231016
DTEND;VALUE=DATE:20231017
DTSTAMP:20260422T174056
CREATED:20230725T202555Z
LAST-MODIFIED:20230725T202555Z
UID:368963-1697414400-1697500799@www.staracademycharter.org
SUMMARY:Students Return
DESCRIPTION:
URL:https://www.staracademycharter.org/calendar-event/students-return-5
END:VEVENT
BEGIN:VEVENT
DTSTART;VALUE=DATE:20231009
DTEND;VALUE=DATE:20231014
DTSTAMP:20260422T174056
CREATED:20230725T202534Z
LAST-MODIFIED:20230725T202534Z
UID:368961-1696809600-1697241599@www.staracademycharter.org
SUMMARY:Fall Break - No School
DESCRIPTION:
URL:https://www.staracademycharter.org/calendar-event/fall-break-no-school
END:VEVENT
BEGIN:VEVENT
DTSTART;VALUE=DATE:20231008
DTEND;VALUE=DATE:20231009
DTSTAMP:20260422T174056
CREATED:20230725T202514Z
LAST-MODIFIED:20230725T202514Z
UID:368959-1696723200-1696809599@www.staracademycharter.org
SUMMARY:1st Quarter Ends
DESCRIPTION:
URL:https://www.staracademycharter.org/calendar-event/1st-quarter-ends-2
END:VEVENT
BEGIN:VEVENT
DTSTART;TZID=America/Chicago:20230927T070000
DTEND;TZID=America/Chicago:20230927T070000
DTSTAMP:20260422T174056
CREATED:20230726T134112Z
LAST-MODIFIED:20230726T134112Z
UID:369062-1695798000-1695798000@www.staracademycharter.org
SUMMARY:Board Meeting
DESCRIPTION:
URL:https://www.staracademycharter.org/calendar-event/board-meeting
LOCATION:Room 108
END:VEVENT
BEGIN:VEVENT
DTSTART;TZID=America/Chicago:20230907T160000
DTEND;TZID=America/Chicago:20230907T190000
DTSTAMP:20260422T174056
CREATED:20230725T202443Z
LAST-MODIFIED:20230725T202443Z
UID:368955-1694102400-1694113200@www.staracademycharter.org
SUMMARY:Parent/Teacher Conferences
DESCRIPTION:
URL:https://www.staracademycharter.org/calendar-event/parent-teacher-conferences
END:VEVENT
END:VCALENDAR